BEGIN:VCALENDAR
VERSION:2.0
PRODID: -//CMS 5.0 //NONSGML //DE
BEGIN:VEVENT
SUMMARY:Gottesdienst mit vietnamesischer Übersetzung
DESCRIPTION:<p>Der Gottesdienst findet in&nbsp;69168 Wiesloch, &nbsp;Alt
 e Heerstraße 11 statt.</p>\n
UID:162632@www.nak-soellingen.de
LOCATION:Wiesloch 
CATEGORIES:Pfinztal-Söllingen,Gottesdienst,Bezirk (ohne Gemeinden),Pfinztal-Berghausen
X-ORGANIZER:
STATUS:CONFIRMED
CLASS:PUBLIC
DTSTART:20260419T073000Z
DTEND:20260419T073000Z
DTSTAMP:20260423T080623Z
CREATED:20181219T130654Z
LAST-MODIFIED:20260402T080848Z
END:VEVENT
BEGIN:VEVENT
SUMMARY:Rundfunkbeitrag im Hörfunkprogramm SWR 1
DESCRIPTION:<p>Beitrag der Neuapostolischen Kirche in der Sendung "aus R
 eligion, Kirche und Gesellschaft"</p>\n
UID:202254@www.nak-soellingen.de
LOCATION:
CATEGORIES:Bezirk (und alle Gemeinden)
X-ORGANIZER:
STATUS:CONFIRMED
CLASS:PUBLIC
DTSTART:20260426T052700Z
DTEND:20260426T052700Z
DTSTAMP:20260423T080623Z
CREATED:20200217T200103Z
LAST-MODIFIED:20260402T082231Z
END:VEVENT
BEGIN:VEVENT
SUMMARY:Gottesdienst an Christi Himmelfahrt
DESCRIPTION:
UID:226872@www.nak-soellingen.de
LOCATION:
CATEGORIES:Bezirk (und alle Gemeinden),Gottesdienst
X-ORGANIZER:
STATUS:CONFIRMED
CLASS:PUBLIC
DTSTART:20260514T073000Z
DTEND:20260514T073000Z
DTSTAMP:20260423T080623Z
CREATED:20210505T114255Z
LAST-MODIFIED:20260402T082719Z
END:VEVENT
BEGIN:VEVENT
SUMMARY:KEINE Gottesdienste
DESCRIPTION:
UID:253352@www.nak-soellingen.de
LOCATION:
CATEGORIES:Bezirk (und alle Gemeinden)
X-ORGANIZER:
STATUS:CONFIRMED
CLASS:PUBLIC
DTSTART:20260512T220000Z
DTEND:20260512T220000Z
DTSTAMP:20260423T080623Z
CREATED:20220401T160027Z
LAST-MODIFIED:20260402T082645Z
END:VEVENT
BEGIN:VEVENT
SUMMARY:Gottesdienst am Karfreitag 
DESCRIPTION:
UID:278513@www.nak-soellingen.de
LOCATION:
CATEGORIES:Königsbach-Stein-Königsbach,Gottesdienst,Königsbach-Stein-Stein,Karlsbad-Mutschelbach
X-ORGANIZER:
STATUS:CONFIRMED
CLASS:PUBLIC
DTSTART:20260403T073000Z
DTEND:20260403T073000Z
DTSTAMP:20260423T080623Z
CREATED:20230330T190450Z
LAST-MODIFIED:20260402T075432Z
END:VEVENT
BEGIN:VEVENT
SUMMARY:Trauergesprächskreis
DESCRIPTION:<p>Eine telefonische Anmeldung ist erforderlich. Weiterführ
 ende&nbsp;Informationen:&nbsp;https://www.nak-sued.de/was-wir-tun/berat
 ungsangebote/fuer-trauernde/</p>\n
UID:286037@www.nak-soellingen.de
LOCATION:Königsbach
CATEGORIES:Bezirk (und alle Gemeinden)
X-ORGANIZER:
STATUS:CONFIRMED
CLASS:PUBLIC
DTSTART:20260420T163000Z
DTEND:20260420T163000Z
DTSTAMP:20260423T080623Z
CREATED:20230701T144506Z
LAST-MODIFIED:20260402T081255Z
END:VEVENT
BEGIN:VEVENT
SUMMARY:Jugend Gottesdienst mit Teenies im Juze in Berghausen
DESCRIPTION:<p>Nachmittags ab 14 Uhr findet ein Dialog zwischen Jugend u
 nd Teenies statt.</p>\n
UID:290305@www.nak-soellingen.de
LOCATION:Berghausen
CATEGORIES:Bezirk (und alle Gemeinden),Jugend
X-ORGANIZER:
STATUS:CONFIRMED
CLASS:PUBLIC
DTSTART:20260419T073000Z
DTEND:20260419T073000Z
DTSTAMP:20260423T080623Z
CREATED:20230901T130235Z
LAST-MODIFIED:20260402T081202Z
END:VEVENT
BEGIN:VEVENT
SUMMARY:Gottesdienst für Teenager  
DESCRIPTION:
UID:297389@www.nak-soellingen.de
LOCATION:Berghausen 
CATEGORIES:Gottesdienst,Pfinztal-Söllingen,Pfinztal-Berghausen,Kinder
X-ORGANIZER:
STATUS:CONFIRMED
CLASS:PUBLIC
DTSTART:20260426T073000Z
DTEND:20260426T073000Z
DTSTAMP:20260423T080623Z
CREATED:20231203T121209Z
LAST-MODIFIED:20260402T082436Z
END:VEVENT
BEGIN:VEVENT
SUMMARY:Gottesdienst am Karfreitag 
DESCRIPTION:<p>Die Gemeinde Söllingen ist in Berghausen&nbsp;</p>\n
UID:304469@www.nak-soellingen.de
LOCATION:Berghausen
CATEGORIES:Pfinztal-Berghausen,Gottesdienst,Pfinztal-Söllingen
X-ORGANIZER:
STATUS:CONFIRMED
CLASS:PUBLIC
DTSTART:20260403T073000Z
DTEND:20260403T073000Z
DTSTAMP:20260423T080623Z
CREATED:20240301T182351Z
LAST-MODIFIED:20260402T075527Z
END:VEVENT
BEGIN:VEVENT
SUMMARY:Jugend im Dialog 
DESCRIPTION:
UID:310254@www.nak-soellingen.de
LOCATION:Königsbach
CATEGORIES:Bezirk (und alle Gemeinden),Jugend
X-ORGANIZER:
STATUS:CONFIRMED
CLASS:PUBLIC
DTSTART:20260323T190000Z
DTEND:20260323T190000Z
DTSTAMP:20260423T080623Z
CREATED:20240504T094728Z
LAST-MODIFIED:20260228T194048Z
END:VEVENT
BEGIN:VEVENT
SUMMARY:Der Bläserchor probt
DESCRIPTION:
UID:321728@www.nak-soellingen.de
LOCATION:Berghausen
CATEGORIES:Bezirk (und alle Gemeinden)
X-ORGANIZER:
STATUS:CONFIRMED
CLASS:PUBLIC
DTSTART:20260420T180000Z
DTEND:20260420T180000Z
DTSTAMP:20260423T080623Z
CREATED:20241001T180909Z
LAST-MODIFIED:20260402T081338Z
END:VEVENT
BEGIN:VEVENT
SUMMARY:Gottesdienst am Karfreitag mit dem Bezirksvorsteher Torben Halam
 a
DESCRIPTION:
UID:335080@www.nak-soellingen.de
LOCATION:Wöschbach
CATEGORIES:Gottesdienst,Pfinztal-Wöschbach
X-ORGANIZER:
STATUS:CONFIRMED
CLASS:PUBLIC
DTSTART:20260403T073000Z
DTEND:20260403T073000Z
DTSTAMP:20260423T080623Z
CREATED:20250401T180939Z
LAST-MODIFIED:20260402T082103Z
END:VEVENT
BEGIN:VEVENT
SUMMARY:Gottesdienst zu Pfingsten mit Stammapostel Jean-Luc Schneider 
DESCRIPTION:
UID:336993@www.nak-soellingen.de
LOCATION:
CATEGORIES:Gottesdienst,Bezirk (und alle Gemeinden)
X-ORGANIZER:
STATUS:CONFIRMED
CLASS:PUBLIC
DTSTART:20260524T080000Z
DTEND:20260524T080000Z
DTSTAMP:20260423T080623Z
CREATED:20250428T184249Z
LAST-MODIFIED:20260402T082843Z
END:VEVENT
BEGIN:VEVENT
SUMMARY:Gottesdienst in Berghausen 
DESCRIPTION:<p>Die Gemeinde&nbsp;Söllingen ist in Berghausen eingeladen
 .</p>\n
UID:345951@www.nak-soellingen.de
LOCATION:Berghausen 
CATEGORIES:Gottesdienst,Pfinztal-Söllingen
X-ORGANIZER:
STATUS:CONFIRMED
CLASS:PUBLIC
DTSTART:20260325T190000Z
DTEND:20260325T190000Z
DTSTAMP:20260423T080623Z
CREATED:20250901T132825Z
LAST-MODIFIED:20260228T194329Z
END:VEVENT
BEGIN:VEVENT
SUMMARY:Gottesdienst 
DESCRIPTION:<p>Die Gemeinde&nbsp;Söllingen ist in Berghausen eingeladen
 .</p>\n
UID:345952@www.nak-soellingen.de
LOCATION:Berghausen
CATEGORIES:Pfinztal-Berghausen,Gottesdienst
X-ORGANIZER:
STATUS:CONFIRMED
CLASS:PUBLIC
DTSTART:20260325T190000Z
DTEND:20260325T190000Z
DTSTAMP:20260423T080623Z
CREATED:20250901T132909Z
LAST-MODIFIED:20260228T194312Z
END:VEVENT
BEGIN:VEVENT
SUMMARY:Gottesdienst in Berghausen 
DESCRIPTION:<p>Die Gemeinde&nbsp;Söllingen ist in Berghausen eingeladen
 .</p>\n
UID:351559@www.nak-soellingen.de
LOCATION:Berghausen 
CATEGORIES:Gottesdienst,Pfinztal-Söllingen
X-ORGANIZER:
STATUS:CONFIRMED
CLASS:PUBLIC
DTSTART:20260415T180000Z
DTEND:20260415T180000Z
DTSTAMP:20260423T080623Z
CREATED:20251101T115623Z
LAST-MODIFIED:20260402T080725Z
END:VEVENT
BEGIN:VEVENT
SUMMARY:Gottesdienst 
DESCRIPTION:<p>Die Gemeinde&nbsp;Söllingen ist in Berghausen eingeladen
 .</p>\n
UID:351560@www.nak-soellingen.de
LOCATION:Berghausen
CATEGORIES:Pfinztal-Berghausen,Gottesdienst
X-ORGANIZER:
STATUS:CONFIRMED
CLASS:PUBLIC
DTSTART:20260415T180000Z
DTEND:20260415T180000Z
DTSTAMP:20260423T080623Z
CREATED:20251101T115640Z
LAST-MODIFIED:20260402T080707Z
END:VEVENT
BEGIN:VEVENT
SUMMARY:Gottesdienst in Berghausen 
DESCRIPTION:<p>Die Gemeinde&nbsp;Söllingen ist in Berghausen eingeladen
 . Es&nbsp; findet eine Taufe statt</p>\n
UID:351572@www.nak-soellingen.de
LOCATION:Berghausen
CATEGORIES:Pfinztal-Söllingen,Gottesdienst
X-ORGANIZER:
STATUS:CONFIRMED
CLASS:PUBLIC
DTSTART:20260329T073000Z
DTEND:20260329T073000Z
DTSTAMP:20260423T080623Z
CREATED:20251101T121525Z
LAST-MODIFIED:20260228T200638Z
END:VEVENT
BEGIN:VEVENT
SUMMARY:Ü60 trifft sich zu einer Wanderung 
DESCRIPTION:
UID:358331@www.nak-soellingen.de
LOCATION:
CATEGORIES:Senioren,Bezirk (und alle Gemeinden)
X-ORGANIZER:
STATUS:CONFIRMED
CLASS:PUBLIC
DTSTART:20260414T080000Z
DTEND:20260414T080000Z
DTSTAMP:20260423T080623Z
CREATED:20260131T161752Z
LAST-MODIFIED:20260402T080634Z
END:VEVENT
BEGIN:VEVENT
SUMMARY:Gottesdienst mit dem Bezirksvorsteher Torben Halama
DESCRIPTION:
UID:360425@www.nak-soellingen.de
LOCATION:Stein 
CATEGORIES:Gottesdienst,Königsbach-Stein-Stein
X-ORGANIZER:
STATUS:CONFIRMED
CLASS:PUBLIC
DTSTART:20260429T180000Z
DTEND:20260429T180000Z
DTSTAMP:20260423T080623Z
CREATED:20260228T191148Z
LAST-MODIFIED:20260402T082512Z
END:VEVENT
BEGIN:VEVENT
SUMMARY:Gottesdienst mit dem Bezirksvorsteher Torben Halama
DESCRIPTION:
UID:360428@www.nak-soellingen.de
LOCATION:Mutschelbach
CATEGORIES:Karlsbad-Mutschelbach,Gottesdienst
X-ORGANIZER:
STATUS:CONFIRMED
CLASS:PUBLIC
DTSTART:20260408T180000Z
DTEND:20260408T180000Z
DTSTAMP:20260423T080623Z
CREATED:20260228T191411Z
LAST-MODIFIED:20260402T080335Z
END:VEVENT
BEGIN:VEVENT
SUMMARY:Offener Ü60 Treff
DESCRIPTION:
UID:360453@www.nak-soellingen.de
LOCATION:Wöschbach
CATEGORIES:Bezirk (und alle Gemeinden),Senioren
X-ORGANIZER:
STATUS:CONFIRMED
CLASS:PUBLIC
DTSTART:20260324T130000Z
DTEND:20260324T130000Z
DTSTAMP:20260423T080623Z
CREATED:20260228T194145Z
LAST-MODIFIED:20260228T194228Z
END:VEVENT
BEGIN:VEVENT
SUMMARY:Rundfunkbeitrag im Hörfunkprogramm Bayern 2
DESCRIPTION:<p>Beitrag der Neuapostolischen Kirche in der Sendung "aus R
 eligion, Kirche und Gesellschaft"</p>\n
UID:360454@www.nak-soellingen.de
LOCATION:
CATEGORIES:Bezirk (und alle Gemeinden)
X-ORGANIZER:
STATUS:CONFIRMED
CLASS:PUBLIC
DTSTART:20260329T044500Z
DTEND:20260329T044500Z
DTSTAMP:20260423T080623Z
CREATED:20260228T194427Z
LAST-MODIFIED:20260228T200600Z
END:VEVENT
BEGIN:VEVENT
SUMMARY:Gottesdienst mit Konfirmation 
DESCRIPTION:<p>Die Konfirmation für den Bezirk Söllingen findet in Kar
 lsruhe Mitte durch Bezirksvorsteher Torben Halama statt.&nbsp;</p>\n
UID:360455@www.nak-soellingen.de
LOCATION:Karlsruhe Mitte
CATEGORIES:Gottesdienst,Bezirk (und alle Gemeinden)
X-ORGANIZER:
STATUS:CONFIRMED
CLASS:PUBLIC
DTSTART:20260412T073000Z
DTEND:20260412T073000Z
DTSTAMP:20260423T080623Z
CREATED:20260228T200740Z
LAST-MODIFIED:20260228T200939Z
END:VEVENT
BEGIN:VEVENT
SUMMARY:Gottesdienst 
DESCRIPTION:<p>Die Gemeinde&nbsp;Söllingen ist in Berghausen eingeladen
 . Es&nbsp; findet eine Taufe statt</p>\n
UID:360457@www.nak-soellingen.de
LOCATION:Berghausen
CATEGORIES:Pfinztal-Berghausen,Gottesdienst
X-ORGANIZER:
STATUS:CONFIRMED
CLASS:PUBLIC
DTSTART:20260329T073000Z
DTEND:20260329T073000Z
DTSTAMP:20260423T080623Z
CREATED:20260228T202030Z
LAST-MODIFIED:20260228T202057Z
END:VEVENT
BEGIN:VEVENT
SUMMARY:Gottesdienst am Ostersonntag mit dem Bezirksapostel Michael Ehri
 ch via Übertragung
DESCRIPTION:<p>Der Gottesdienst wird via Bild- und Ton&nbsp;nach <strong
 >Mutschelbach&nbsp;</strong>übertragen</p>\n
UID:362948@www.nak-soellingen.de
LOCATION:Kempten Süd
CATEGORIES:Gottesdienst,Königsbach-Stein-Königsbach,Karlsbad-Mutschelbach,Königsbach-Stein-Stein
X-ORGANIZER:
STATUS:CONFIRMED
CLASS:PUBLIC
DTSTART:20260405T080000Z
DTEND:20260405T080000Z
DTSTAMP:20260423T080623Z
CREATED:20260402T075720Z
LAST-MODIFIED:20260402T075806Z
END:VEVENT
BEGIN:VEVENT
SUMMARY:Gottesdienst am Ostersonntag mit dem Bezirksapostel Michael Ehri
 ch via Übertragung
DESCRIPTION:<p>Der Gottesdienst wird via Bild- und Ton&nbsp;nach <strong
 >Berghausen&nbsp;</strong>übertragen</p>\n
UID:362949@www.nak-soellingen.de
LOCATION:Kempten Süd
CATEGORIES:Pfinztal-Berghausen,Gottesdienst,Pfinztal-Söllingen,Pfinztal-Wöschbach
X-ORGANIZER:
STATUS:CONFIRMED
CLASS:PUBLIC
DTSTART:20260405T080000Z
DTEND:20260405T080000Z
DTSTAMP:20260423T080623Z
CREATED:20260402T075828Z
LAST-MODIFIED:20260402T075855Z
END:VEVENT
BEGIN:VEVENT
SUMMARY:Gottesdienst 
DESCRIPTION:<p>Die Gemeinden Söllingen und Königsbach sind&nbsp;in Ber
 ghausen eingeladen.</p>\n
UID:362951@www.nak-soellingen.de
LOCATION:Berghausen
CATEGORIES:Königsbach-Stein-Königsbach,Pfinztal-Söllingen,Gottesdienst
X-ORGANIZER:
STATUS:CONFIRMED
CLASS:PUBLIC
DTSTART:20260408T180000Z
DTEND:20260408T180000Z
DTSTAMP:20260423T080623Z
CREATED:20260402T080020Z
LAST-MODIFIED:20260402T080049Z
END:VEVENT
BEGIN:VEVENT
SUMMARY:Gottesdienst 
DESCRIPTION:<p>Die Gemeinden Söllingen und Königsbach sind&nbsp;in Ber
 ghausen eingeladen&nbsp;</p>\n
UID:362952@www.nak-soellingen.de
LOCATION:Berghausen
CATEGORIES:Gottesdienst,Pfinztal-Berghausen
X-ORGANIZER:
STATUS:CONFIRMED
CLASS:PUBLIC
DTSTART:20260408T180000Z
DTEND:20260408T180000Z
DTSTAMP:20260423T080623Z
CREATED:20260402T080116Z
LAST-MODIFIED:20260402T080146Z
END:VEVENT
BEGIN:VEVENT
SUMMARY:Ü60 trifft sich zum Mittagessen 
DESCRIPTION:<p>Nähere Infos bei Eurem Seniorenbeauftragten.</p>\n
UID:362955@www.nak-soellingen.de
LOCATION:
CATEGORIES:Bezirk (und alle Gemeinden),Senioren
X-ORGANIZER:
STATUS:CONFIRMED
CLASS:PUBLIC
DTSTART:20260421T094500Z
DTEND:20260421T094500Z
DTSTAMP:20260423T080623Z
CREATED:20260402T081404Z
LAST-MODIFIED:20260402T081509Z
END:VEVENT
BEGIN:VEVENT
SUMMARY:Gottesdienst für den ganzen Bezirk mit dem Apostel Daniel Habic
 h
DESCRIPTION:
UID:362956@www.nak-soellingen.de
LOCATION:Berghausen 
CATEGORIES:Bezirk (und alle Gemeinden)
X-ORGANIZER:
STATUS:CONFIRMED
CLASS:PUBLIC
DTSTART:20260422T180000Z
DTEND:20260422T180000Z
DTSTAMP:20260423T080623Z
CREATED:20260402T081607Z
LAST-MODIFIED:20260402T081947Z
END:VEVENT
END:VCALENDAR
